BEGIN:VCALENDAR
VERSION:2.0
PRODID: -//Q4 Inc.//EN
METHOD:PUBLISH
BEGIN:VTIMEZONE
TZID:America/New_York
X-LIC-LOCATION:America/New_York
BEGIN:DAYLIGHT
TZOFFSETFROM:-0500
TZOFFSETTO:-0400
TZNAME:EDT
DTSTART:19700308T020000
RRULE:FREQ=YEARLY;BYMONTH=3;BYDAY=2SU
END:DAYLIGHT
BEGIN:STANDARD
TZOFFSETFROM:-0400
TZOFFSETTO:-0500
TZNAME:EST
DTSTART:19701101T020000
RRULE:FREQ=YEARLY;BYMONTH=11;BYDAY=1SU
END:STANDARD
END:VTIMEZONE
BEGIN:VEVENT
ORGANIZER:MAILTO:no-reply@q4inc.com
DTSTART;TZID="America/New_York":20251202T110000
DTEND;TZID="America/New_York":20251202T120000
LOCATION:Scottsdale, Arizona
UID:c9cb63ae-dd47-49da-b124-26214fded2db
DTSTAMP:20260424T095905
SUMMARY:UBS Global Technology and AI Conference
DESCRIPTION: View More Information: https://investors.opentext.com/events-and-presentations/event-details/2025/UBS-Global-Technology-and-AI-Conference-2025-gszVmD_akG/default.aspx
URL;VALUE=URI:https://investors.opentext.com/events-and-presentations/event-details/2025/UBS-Global-Technology-and-AI-Conference-2025-gszVmD_akG/default.aspx
PRIORITY:5
CLASS:PUBLIC
END:VEVENT
END:VCALENDAR
