BEGIN:VCALENDAR
VERSION:2.0
PRODID: -//Q4 Inc.//EN
METHOD:PUBLISH
BEGIN:VTIMEZONE
TZID:America/New_York
X-LIC-LOCATION:America/New_York
BEGIN:DAYLIGHT
TZOFFSETFROM:-0500
TZOFFSETTO:-0400
TZNAME:EDT
DTSTART:19700308T020000
RRULE:FREQ=YEARLY;BYMONTH=3;BYDAY=2SU
END:DAYLIGHT
BEGIN:STANDARD
TZOFFSETFROM:-0400
TZOFFSETTO:-0500
TZNAME:EST
DTSTART:19701101T020000
RRULE:FREQ=YEARLY;BYMONTH=11;BYDAY=1SU
END:STANDARD
END:VTIMEZONE
BEGIN:VEVENT
ORGANIZER:MAILTO:no-reply@q4inc.com
DTSTART;TZID="America/New_York":20160302T000000
DTEND;TZID="America/New_York":20160302T000000
LOCATION:San Francisco, CA, The Palace Hotel, 2 New Montgomery Street
UID:52980dd8-a0f8-415b-bd0f-af8d9ed6a01b
DTSTAMP:20260422T095900
SUMMARY:Morgan Stanley Technology, Media & Telecom Conference
DESCRIPTION: View More Information: https://investors.opentext.com/events-and-presentations/event-details/2016/Morgan-Stanley-Technology-Media--Telecom-Conference/default.aspx
URL;VALUE=URI:https://investors.opentext.com/events-and-presentations/event-details/2016/Morgan-Stanley-Technology-Media--Telecom-Conference/default.aspx
PRIORITY:5
CLASS:PUBLIC
END:VEVENT
END:VCALENDAR
